BEGIN:VCALENDAR
VERSION:2.0
PRODID:-//Beacon Falls Youth Theater Company - ECPv6.15.20//NONSGML v1.0//EN
CALSCALE:GREGORIAN
METHOD:PUBLISH
X-WR-CALNAME:Beacon Falls Youth Theater Company
X-ORIGINAL-URL:https://bfytc.org
X-WR-CALDESC:Events for Beacon Falls Youth Theater Company
REFRESH-INTERVAL;VALUE=DURATION:PT1H
X-Robots-Tag:noindex
X-PUBLISHED-TTL:PT1H
BEGIN:VTIMEZONE
TZID:America/New_York
BEGIN:DAYLIGHT
TZOFFSETFROM:-0500
TZOFFSETTO:-0400
TZNAME:EDT
DTSTART:20180311T070000
END:DAYLIGHT
BEGIN:STANDARD
TZOFFSETFROM:-0400
TZOFFSETTO:-0500
TZNAME:EST
DTSTART:20181104T060000
END:STANDARD
BEGIN:DAYLIGHT
TZOFFSETFROM:-0500
TZOFFSETTO:-0400
TZNAME:EDT
DTSTART:20190310T070000
END:DAYLIGHT
BEGIN:STANDARD
TZOFFSETFROM:-0400
TZOFFSETTO:-0500
TZNAME:EST
DTSTART:20191103T060000
END:STANDARD
BEGIN:DAYLIGHT
TZOFFSETFROM:-0500
TZOFFSETTO:-0400
TZNAME:EDT
DTSTART:20200308T070000
END:DAYLIGHT
BEGIN:STANDARD
TZOFFSETFROM:-0400
TZOFFSETTO:-0500
TZNAME:EST
DTSTART:20201101T060000
END:STANDARD
END:VTIMEZONE
BEGIN:VEVENT
DTSTART;TZID=America/New_York:20191202T153000
DTEND;TZID=America/New_York:20191202T170000
DTSTAMP:20260421T215030
CREATED:20191102T233532Z
LAST-MODIFIED:20191102T233532Z
UID:1805-1575300600-1575306000@bfytc.org
SUMMARY:Rehearsal
DESCRIPTION:
URL:https://bfytc.org/event/rehearsal-31/
LOCATION:Laurel Ledge Elementary School\, 30 Highland Avenue\, Beacon Falls\, CT\, 06403\, United States
CATEGORIES:Rehearsals
ORGANIZER;CN="Beacon Falls Youth Theater":MAILTO:contact@bfytc.org
END:VEVENT
BEGIN:VEVENT
DTSTART;TZID=America/New_York:20191129T153000
DTEND;TZID=America/New_York:20191129T170000
DTSTAMP:20260421T215030
CREATED:20191016T001754Z
LAST-MODIFIED:20191016T001754Z
UID:1797-1575041400-1575046800@bfytc.org
SUMMARY:No Rehearsal
DESCRIPTION:No rehearsal due to a non-school day
URL:https://bfytc.org/event/no-rehearsal-6/
LOCATION:Laurel Ledge Elementary School\, 30 Highland Avenue\, Beacon Falls\, CT\, 06403\, United States
CATEGORIES:Rehearsals
ORGANIZER;CN="Beacon Falls Youth Theater":MAILTO:contact@bfytc.org
END:VEVENT
BEGIN:VEVENT
DTSTART;TZID=America/New_York:20191127T153000
DTEND;TZID=America/New_York:20191127T170000
DTSTAMP:20260421T215030
CREATED:20191016T001625Z
LAST-MODIFIED:20191016T001625Z
UID:1795-1574868600-1574874000@bfytc.org
SUMMARY:No Rehearsal
DESCRIPTION:No rehearsal due to a single session school day
URL:https://bfytc.org/event/no-rehearsal-5/
LOCATION:Laurel Ledge Elementary School\, 30 Highland Avenue\, Beacon Falls\, CT\, 06403\, United States
CATEGORIES:Rehearsals
ORGANIZER;CN="Beacon Falls Youth Theater":MAILTO:contact@bfytc.org
END:VEVENT
BEGIN:VEVENT
DTSTART;TZID=America/New_York:20191125T153000
DTEND;TZID=America/New_York:20191125T170000
DTSTAMP:20260421T215030
CREATED:20191016T001434Z
LAST-MODIFIED:20191016T001434Z
UID:1793-1574695800-1574701200@bfytc.org
SUMMARY:Rehearsal
DESCRIPTION:
URL:https://bfytc.org/event/rehearsal-30/
LOCATION:Laurel Ledge Elementary School\, 30 Highland Avenue\, Beacon Falls\, CT\, 06403\, United States
CATEGORIES:Rehearsals
ORGANIZER;CN="Beacon Falls Youth Theater":MAILTO:contact@bfytc.org
END:VEVENT
BEGIN:VEVENT
DTSTART;TZID=America/New_York:20191122T153000
DTEND;TZID=America/New_York:20191122T170000
DTSTAMP:20260421T215030
CREATED:20191016T001258Z
LAST-MODIFIED:20191017T034128Z
UID:1791-1574436600-1574442000@bfytc.org
SUMMARY:Rehearsal
DESCRIPTION:
URL:https://bfytc.org/event/rehearsal-29/
LOCATION:Laurel Ledge Elementary School\, 30 Highland Avenue\, Beacon Falls\, CT\, 06403\, United States
CATEGORIES:Rehearsals
ORGANIZER;CN="Beacon Falls Youth Theater":MAILTO:contact@bfytc.org
END:VEVENT
BEGIN:VEVENT
DTSTART;TZID=America/New_York:20191120T153000
DTEND;TZID=America/New_York:20191120T170000
DTSTAMP:20260421T215030
CREATED:20191016T000953Z
LAST-MODIFIED:20191016T000953Z
UID:1789-1574263800-1574269200@bfytc.org
SUMMARY:Rehearsal
DESCRIPTION:
URL:https://bfytc.org/event/rehearsal-28/
LOCATION:Laurel Ledge Elementary School\, 30 Highland Avenue\, Beacon Falls\, CT\, 06403\, United States
CATEGORIES:Rehearsals
ORGANIZER;CN="Beacon Falls Youth Theater":MAILTO:contact@bfytc.org
END:VEVENT
BEGIN:VEVENT
DTSTART;TZID=America/New_York:20191118T153000
DTEND;TZID=America/New_York:20191118T170000
DTSTAMP:20260421T215030
CREATED:20191016T000524Z
LAST-MODIFIED:20191016T000524Z
UID:1786-1574091000-1574096400@bfytc.org
SUMMARY:Rehearsal
DESCRIPTION:
URL:https://bfytc.org/event/rehearsal-27/
LOCATION:Laurel Ledge Elementary School\, 30 Highland Avenue\, Beacon Falls\, CT\, 06403\, United States
CATEGORIES:Rehearsals
ORGANIZER;CN="Beacon Falls Youth Theater":MAILTO:contact@bfytc.org
END:VEVENT
BEGIN:VEVENT
DTSTART;TZID=America/New_York:20191115T153000
DTEND;TZID=America/New_York:20191115T170000
DTSTAMP:20260421T215030
CREATED:20191016T000153Z
LAST-MODIFIED:20191016T000153Z
UID:1784-1573831800-1573837200@bfytc.org
SUMMARY:Rehearsal
DESCRIPTION:
URL:https://bfytc.org/event/rehearsal-26/
LOCATION:Laurel Ledge Elementary School\, 30 Highland Avenue\, Beacon Falls\, CT\, 06403\, United States
CATEGORIES:Rehearsals
ORGANIZER;CN="Beacon Falls Youth Theater":MAILTO:contact@bfytc.org
END:VEVENT
BEGIN:VEVENT
DTSTART;TZID=America/New_York:20191113T153000
DTEND;TZID=America/New_York:20191113T170000
DTSTAMP:20260421T215030
CREATED:20191015T235212Z
LAST-MODIFIED:20191015T235212Z
UID:1782-1573659000-1573664400@bfytc.org
SUMMARY:Rehearsal
DESCRIPTION:
URL:https://bfytc.org/event/rehearsal-25/
LOCATION:Laurel Ledge Elementary School\, 30 Highland Avenue\, Beacon Falls\, CT\, 06403\, United States
CATEGORIES:Rehearsals
ORGANIZER;CN="Beacon Falls Youth Theater":MAILTO:contact@bfytc.org
END:VEVENT
BEGIN:VEVENT
DTSTART;TZID=America/New_York:20191111T153000
DTEND;TZID=America/New_York:20191111T170000
DTSTAMP:20260421T215030
CREATED:20191015T235043Z
LAST-MODIFIED:20191016T001845Z
UID:1780-1573486200-1573491600@bfytc.org
SUMMARY:No Rehearsal
DESCRIPTION:No rehearsal due to a non-school day
URL:https://bfytc.org/event/no-rehearsal-4/
LOCATION:Laurel Ledge Elementary School\, 30 Highland Avenue\, Beacon Falls\, CT\, 06403\, United States
CATEGORIES:Rehearsals
ORGANIZER;CN="Beacon Falls Youth Theater":MAILTO:contact@bfytc.org
END:VEVENT
BEGIN:VEVENT
DTSTART;TZID=America/New_York:20191108T153000
DTEND;TZID=America/New_York:20191108T170000
DTSTAMP:20260421T215030
CREATED:20191015T234914Z
LAST-MODIFIED:20191015T234914Z
UID:1778-1573227000-1573232400@bfytc.org
SUMMARY:Rehearsal
DESCRIPTION:
URL:https://bfytc.org/event/rehearsal-24/
LOCATION:Laurel Ledge Elementary School\, 30 Highland Avenue\, Beacon Falls\, CT\, 06403\, United States
CATEGORIES:Rehearsals
ORGANIZER;CN="Beacon Falls Youth Theater":MAILTO:contact@bfytc.org
END:VEVENT
BEGIN:VEVENT
DTSTART;TZID=America/New_York:20191106T153000
DTEND;TZID=America/New_York:20191106T170000
DTSTAMP:20260421T215030
CREATED:20191015T234722Z
LAST-MODIFIED:20191015T234722Z
UID:1776-1573054200-1573059600@bfytc.org
SUMMARY:Rehearsal
DESCRIPTION:
URL:https://bfytc.org/event/rehearsal-23/
LOCATION:Laurel Ledge Elementary School\, 30 Highland Avenue\, Beacon Falls\, CT\, 06403\, United States
CATEGORIES:Rehearsals
ORGANIZER;CN="Beacon Falls Youth Theater":MAILTO:contact@bfytc.org
END:VEVENT
BEGIN:VEVENT
DTSTART;TZID=America/New_York:20191104T153000
DTEND;TZID=America/New_York:20191104T170000
DTSTAMP:20260421T215030
CREATED:20191015T234555Z
LAST-MODIFIED:20191015T234555Z
UID:1774-1572881400-1572886800@bfytc.org
SUMMARY:Rehearsal
DESCRIPTION:
URL:https://bfytc.org/event/rehearsal-22/
LOCATION:Laurel Ledge Elementary School\, 30 Highland Avenue\, Beacon Falls\, CT\, 06403\, United States
CATEGORIES:Rehearsals
ORGANIZER;CN="Beacon Falls Youth Theater":MAILTO:contact@bfytc.org
END:VEVENT
BEGIN:VEVENT
DTSTART;TZID=America/New_York:20191101T153000
DTEND;TZID=America/New_York:20191101T170000
DTSTAMP:20260421T215030
CREATED:20191015T234344Z
LAST-MODIFIED:20191015T234344Z
UID:1772-1572622200-1572627600@bfytc.org
SUMMARY:Rehearsal
DESCRIPTION:
URL:https://bfytc.org/event/rehearsal-21/
LOCATION:Laurel Ledge Elementary School\, 30 Highland Avenue\, Beacon Falls\, CT\, 06403\, United States
CATEGORIES:Rehearsals
ORGANIZER;CN="Beacon Falls Youth Theater":MAILTO:contact@bfytc.org
END:VEVENT
BEGIN:VEVENT
DTSTART;TZID=America/New_York:20191030T153000
DTEND;TZID=America/New_York:20191030T170000
DTSTAMP:20260421T215030
CREATED:20190926T025100Z
LAST-MODIFIED:20190926T025100Z
UID:1758-1572449400-1572454800@bfytc.org
SUMMARY:Rehearsal
DESCRIPTION:
URL:https://bfytc.org/event/rehearsal-20/
LOCATION:Laurel Ledge Elementary School\, 30 Highland Avenue\, Beacon Falls\, CT\, 06403\, United States
CATEGORIES:Rehearsals
ORGANIZER;CN="Beacon Falls Youth Theater":MAILTO:contact@bfytc.org
END:VEVENT
BEGIN:VEVENT
DTSTART;TZID=America/New_York:20191028T153000
DTEND;TZID=America/New_York:20191028T170000
DTSTAMP:20260421T215030
CREATED:20190926T024957Z
LAST-MODIFIED:20190926T024957Z
UID:1756-1572276600-1572282000@bfytc.org
SUMMARY:Rehearsal
DESCRIPTION:
URL:https://bfytc.org/event/rehearsal-19/
LOCATION:Laurel Ledge Elementary School\, 30 Highland Avenue\, Beacon Falls\, CT\, 06403\, United States
CATEGORIES:Rehearsals
ORGANIZER;CN="Beacon Falls Youth Theater":MAILTO:contact@bfytc.org
END:VEVENT
BEGIN:VEVENT
DTSTART;TZID=America/New_York:20191025T153000
DTEND;TZID=America/New_York:20191025T170000
DTSTAMP:20260421T215030
CREATED:20190926T024830Z
LAST-MODIFIED:20190926T024830Z
UID:1754-1572017400-1572022800@bfytc.org
SUMMARY:Rehearsal
DESCRIPTION:
URL:https://bfytc.org/event/rehearsal-18/
LOCATION:Laurel Ledge Elementary School\, 30 Highland Avenue\, Beacon Falls\, CT\, 06403\, United States
CATEGORIES:Rehearsals
ORGANIZER;CN="Beacon Falls Youth Theater":MAILTO:contact@bfytc.org
END:VEVENT
BEGIN:VEVENT
DTSTART;TZID=America/New_York:20191023T153000
DTEND;TZID=America/New_York:20191023T170000
DTSTAMP:20260421T215030
CREATED:20190926T024721Z
LAST-MODIFIED:20190926T024721Z
UID:1752-1571844600-1571850000@bfytc.org
SUMMARY:Rehearsal
DESCRIPTION:
URL:https://bfytc.org/event/rehearsal-17/
LOCATION:Laurel Ledge Elementary School\, 30 Highland Avenue\, Beacon Falls\, CT\, 06403\, United States
CATEGORIES:Rehearsals
ORGANIZER;CN="Beacon Falls Youth Theater":MAILTO:contact@bfytc.org
END:VEVENT
BEGIN:VEVENT
DTSTART;TZID=America/New_York:20191021T153000
DTEND;TZID=America/New_York:20191021T170000
DTSTAMP:20260421T215030
CREATED:20190926T024624Z
LAST-MODIFIED:20190926T024624Z
UID:1750-1571671800-1571677200@bfytc.org
SUMMARY:Rehearsal
DESCRIPTION:
URL:https://bfytc.org/event/rehearsal-16/
LOCATION:Laurel Ledge Elementary School\, 30 Highland Avenue\, Beacon Falls\, CT\, 06403\, United States
CATEGORIES:Rehearsals
ORGANIZER;CN="Beacon Falls Youth Theater":MAILTO:contact@bfytc.org
END:VEVENT
BEGIN:VEVENT
DTSTART;TZID=America/New_York:20191018T153000
DTEND;TZID=America/New_York:20191018T170000
DTSTAMP:20260421T215030
CREATED:20190926T024451Z
LAST-MODIFIED:20190926T024451Z
UID:1748-1571412600-1571418000@bfytc.org
SUMMARY:Rehearsal
DESCRIPTION:
URL:https://bfytc.org/event/rehearsal-15/
LOCATION:Laurel Ledge Elementary School\, 30 Highland Avenue\, Beacon Falls\, CT\, 06403\, United States
CATEGORIES:Rehearsals
ORGANIZER;CN="Beacon Falls Youth Theater":MAILTO:contact@bfytc.org
END:VEVENT
BEGIN:VEVENT
DTSTART;VALUE=DATE:20191016
DTEND;VALUE=DATE:20191017
DTSTAMP:20260421T215030
CREATED:20190926T024152Z
LAST-MODIFIED:20190926T024250Z
UID:1745-1571184000-1571270399@bfytc.org
SUMMARY:No Rehearsal
DESCRIPTION:There will be no rehearsal on October 16\, 2019\, due to Region 16 single session day.
URL:https://bfytc.org/event/no-rehearsal-3/
LOCATION:CT
CATEGORIES:Rehearsals
ORGANIZER;CN="Beacon Falls Youth Theater":MAILTO:contact@bfytc.org
END:VEVENT
BEGIN:VEVENT
DTSTART;VALUE=DATE:20191014
DTEND;VALUE=DATE:20191015
DTSTAMP:20260421T215030
CREATED:20190926T024007Z
LAST-MODIFIED:20190926T024007Z
UID:1743-1571011200-1571097599@bfytc.org
SUMMARY:No Rehearsal
DESCRIPTION:There will be no rehearsal on October 14\, 2019 due to the observance of Columbus Day.
URL:https://bfytc.org/event/no-rehearsal-2/
LOCATION:CT
CATEGORIES:Rehearsals
ORGANIZER;CN="Beacon Falls Youth Theater":MAILTO:contact@bfytc.org
END:VEVENT
BEGIN:VEVENT
DTSTART;TZID=America/New_York:20191011T153000
DTEND;TZID=America/New_York:20191011T170000
DTSTAMP:20260421T215030
CREATED:20190926T023736Z
LAST-MODIFIED:20190926T023736Z
UID:1741-1570807800-1570813200@bfytc.org
SUMMARY:Rehearsal
DESCRIPTION:
URL:https://bfytc.org/event/rehearsal-14/
LOCATION:Laurel Ledge Elementary School\, 30 Highland Avenue\, Beacon Falls\, CT\, 06403\, United States
CATEGORIES:Rehearsals
ORGANIZER;CN="Beacon Falls Youth Theater":MAILTO:contact@bfytc.org
END:VEVENT
BEGIN:VEVENT
DTSTART;TZID=America/New_York:20191009T153000
DTEND;TZID=America/New_York:20191009T170000
DTSTAMP:20260421T215030
CREATED:20190926T023536Z
LAST-MODIFIED:20190926T023536Z
UID:1739-1570635000-1570640400@bfytc.org
SUMMARY:Rehearsal
DESCRIPTION:
URL:https://bfytc.org/event/rehearsal-13/
LOCATION:Laurel Ledge Elementary School\, 30 Highland Avenue\, Beacon Falls\, CT\, 06403\, United States
CATEGORIES:Rehearsals
ORGANIZER;CN="Beacon Falls Youth Theater":MAILTO:contact@bfytc.org
END:VEVENT
BEGIN:VEVENT
DTSTART;TZID=America/New_York:20191007T153000
DTEND;TZID=America/New_York:20191007T170000
DTSTAMP:20260421T215030
CREATED:20190926T023316Z
LAST-MODIFIED:20190926T023316Z
UID:1737-1570462200-1570467600@bfytc.org
SUMMARY:Rehearsal/Auditions
DESCRIPTION:
URL:https://bfytc.org/event/rehearsal-auditions/
LOCATION:Laurel Ledge Elementary School\, 30 Highland Avenue\, Beacon Falls\, CT\, 06403\, United States
CATEGORIES:Auditions,Rehearsals
ORGANIZER;CN="Beacon Falls Youth Theater":MAILTO:contact@bfytc.org
END:VEVENT
BEGIN:VEVENT
DTSTART;TZID=America/New_York:20190930T153000
DTEND;TZID=America/New_York:20190930T170000
DTSTAMP:20260421T215030
CREATED:20190825T202302Z
LAST-MODIFIED:20190926T023558Z
UID:1612-1569857400-1569862800@bfytc.org
SUMMARY:Rehearsal/Auditions
DESCRIPTION:
URL:https://bfytc.org/event/rehearsal-12/
LOCATION:Laurel Ledge Elementary School\, 30 Highland Avenue\, Beacon Falls\, CT\, 06403\, United States
CATEGORIES:Auditions,Rehearsals
ORGANIZER;CN="Beacon Falls Youth Theater":MAILTO:contact@bfytc.org
END:VEVENT
BEGIN:VEVENT
DTSTART;TZID=America/New_York:20190927T153000
DTEND;TZID=America/New_York:20190927T170000
DTSTAMP:20260421T215030
CREATED:20190825T202122Z
LAST-MODIFIED:20190825T202122Z
UID:1610-1569598200-1569603600@bfytc.org
SUMMARY:Rehearsal
DESCRIPTION:
URL:https://bfytc.org/event/rehearsal-11/
LOCATION:Laurel Ledge Elementary School\, 30 Highland Avenue\, Beacon Falls\, CT\, 06403\, United States
CATEGORIES:Rehearsals
ORGANIZER;CN="Beacon Falls Youth Theater":MAILTO:contact@bfytc.org
END:VEVENT
BEGIN:VEVENT
DTSTART;VALUE=DATE:20190925
DTEND;VALUE=DATE:20190926
DTSTAMP:20260421T215030
CREATED:20190825T202008Z
LAST-MODIFIED:20190918T151816Z
UID:1608-1569369600-1569455999@bfytc.org
SUMMARY:No Rehearsal
DESCRIPTION:There will be no rehearsal on September 25\, 2019 due to region 16 single session day. Thank you.
URL:https://bfytc.org/event/rehearsal-10/
LOCATION:Laurel Ledge Elementary School\, 30 Highland Avenue\, Beacon Falls\, CT\, 06403\, United States
CATEGORIES:Rehearsals
ORGANIZER;CN="Beacon Falls Youth Theater":MAILTO:contact@bfytc.org
END:VEVENT
BEGIN:VEVENT
DTSTART;TZID=America/New_York:20190923T153000
DTEND;TZID=America/New_York:20190923T170000
DTSTAMP:20260421T215030
CREATED:20190825T201902Z
LAST-MODIFIED:20190825T201902Z
UID:1606-1569252600-1569258000@bfytc.org
SUMMARY:Rehearsal
DESCRIPTION:
URL:https://bfytc.org/event/rehearsal-9/
LOCATION:Laurel Ledge Elementary School\, 30 Highland Avenue\, Beacon Falls\, CT\, 06403\, United States
CATEGORIES:Rehearsals
ORGANIZER;CN="Beacon Falls Youth Theater":MAILTO:contact@bfytc.org
END:VEVENT
BEGIN:VEVENT
DTSTART;TZID=America/New_York:20190920T153000
DTEND;TZID=America/New_York:20190920T170000
DTSTAMP:20260421T215030
CREATED:20190825T201756Z
LAST-MODIFIED:20190825T201756Z
UID:1604-1568993400-1568998800@bfytc.org
SUMMARY:Rehearsal
DESCRIPTION:
URL:https://bfytc.org/event/rehearsal-8/
LOCATION:Laurel Ledge Elementary School\, 30 Highland Avenue\, Beacon Falls\, CT\, 06403\, United States
CATEGORIES:Rehearsals
ORGANIZER;CN="Beacon Falls Youth Theater":MAILTO:contact@bfytc.org
END:VEVENT
END:VCALENDAR