BEGIN:VCALENDAR
VERSION:2.0
PRODID:-//Beacon Falls Youth Theater Company - ECPv6.15.20//NONSGML v1.0//EN
CALSCALE:GREGORIAN
METHOD:PUBLISH
X-ORIGINAL-URL:https://bfytc.org
X-WR-CALDESC:Events for Beacon Falls Youth Theater Company
REFRESH-INTERVAL;VALUE=DURATION:PT1H
X-Robots-Tag:noindex
X-PUBLISHED-TTL:PT1H
BEGIN:VTIMEZONE
TZID:America/New_York
BEGIN:DAYLIGHT
TZOFFSETFROM:-0500
TZOFFSETTO:-0400
TZNAME:EDT
DTSTART:20180311T070000
END:DAYLIGHT
BEGIN:STANDARD
TZOFFSETFROM:-0400
TZOFFSETTO:-0500
TZNAME:EST
DTSTART:20181104T060000
END:STANDARD
BEGIN:DAYLIGHT
TZOFFSETFROM:-0500
TZOFFSETTO:-0400
TZNAME:EDT
DTSTART:20190310T070000
END:DAYLIGHT
BEGIN:STANDARD
TZOFFSETFROM:-0400
TZOFFSETTO:-0500
TZNAME:EST
DTSTART:20191103T060000
END:STANDARD
BEGIN:DAYLIGHT
TZOFFSETFROM:-0500
TZOFFSETTO:-0400
TZNAME:EDT
DTSTART:20200308T070000
END:DAYLIGHT
BEGIN:STANDARD
TZOFFSETFROM:-0400
TZOFFSETTO:-0500
TZNAME:EST
DTSTART:20201101T060000
END:STANDARD
BEGIN:DAYLIGHT
TZOFFSETFROM:-0500
TZOFFSETTO:-0400
TZNAME:EDT
DTSTART:20210314T070000
END:DAYLIGHT
BEGIN:STANDARD
TZOFFSETFROM:-0400
TZOFFSETTO:-0500
TZNAME:EST
DTSTART:20211107T060000
END:STANDARD
BEGIN:DAYLIGHT
TZOFFSETFROM:-0500
TZOFFSETTO:-0400
TZNAME:EDT
DTSTART:20220313T070000
END:DAYLIGHT
BEGIN:STANDARD
TZOFFSETFROM:-0400
TZOFFSETTO:-0500
TZNAME:EST
DTSTART:20221106T060000
END:STANDARD
END:VTIMEZONE
BEGIN:VEVENT
DTSTART;TZID=America/New_York:20211116T170000
DTEND;TZID=America/New_York:20211116T183000
DTSTAMP:20260421T145150
CREATED:20211111T161617Z
LAST-MODIFIED:20211111T161617Z
UID:2057-1637082000-1637087400@bfytc.org
SUMMARY:Rehearsal
DESCRIPTION:
URL:https://bfytc.org/event/rehearsal-43/
LOCATION:Laurel Ledge Elementary School\, 30 Highland Avenue\, Beacon Falls\, CT\, 06403\, United States
CATEGORIES:Rehearsals
ORGANIZER;CN="Beacon Falls Youth Theater":MAILTO:contact@bfytc.org
END:VEVENT
BEGIN:VEVENT
DTSTART;VALUE=DATE:20211111
DTEND;VALUE=DATE:20211112
DTSTAMP:20260421T145150
CREATED:20210928T215408Z
LAST-MODIFIED:20210928T215408Z
UID:2045-1636588800-1636675199@bfytc.org
SUMMARY:No Rehearsal
DESCRIPTION:
URL:https://bfytc.org/event/no-rehearsal-13/
LOCATION:CT
CATEGORIES:Rehearsals
ORGANIZER;CN="Beacon Falls Youth Theater":MAILTO:contact@bfytc.org
END:VEVENT
BEGIN:VEVENT
DTSTART;TZID=America/New_York:20211109T170000
DTEND;TZID=America/New_York:20211109T183000
DTSTAMP:20260421T145150
CREATED:20210921T205039Z
LAST-MODIFIED:20210921T205039Z
UID:2032-1636477200-1636482600@bfytc.org
SUMMARY:Rehearsal
DESCRIPTION:
URL:https://bfytc.org/event/rehearsal-42/
LOCATION:Laurel Ledge Elementary School\, 30 Highland Avenue\, Beacon Falls\, CT\, 06403\, United States
CATEGORIES:Rehearsals
ORGANIZER;CN="Beacon Falls Youth Theater":MAILTO:contact@bfytc.org
END:VEVENT
BEGIN:VEVENT
DTSTART;TZID=America/New_York:20211104T170000
DTEND;TZID=America/New_York:20211104T183000
DTSTAMP:20260421T145150
CREATED:20210921T204651Z
LAST-MODIFIED:20210921T204651Z
UID:2030-1636045200-1636050600@bfytc.org
SUMMARY:Rehearsal
DESCRIPTION:
URL:https://bfytc.org/event/rehearsal-41/
LOCATION:Laurel Ledge Elementary School\, 30 Highland Avenue\, Beacon Falls\, CT\, 06403\, United States
CATEGORIES:Rehearsals
ORGANIZER;CN="Beacon Falls Youth Theater":MAILTO:contact@bfytc.org
END:VEVENT
BEGIN:VEVENT
DTSTART;VALUE=DATE:20211102
DTEND;VALUE=DATE:20211103
DTSTAMP:20260421T145150
CREATED:20210928T215019Z
LAST-MODIFIED:20210928T215019Z
UID:2043-1635811200-1635897599@bfytc.org
SUMMARY:No Rehearsal
DESCRIPTION:
URL:https://bfytc.org/event/no-rehearsal-12/
LOCATION:CT
CATEGORIES:Rehearsals
ORGANIZER;CN="Beacon Falls Youth Theater":MAILTO:contact@bfytc.org
END:VEVENT
BEGIN:VEVENT
DTSTART;TZID=America/New_York:20211028T170000
DTEND;TZID=America/New_York:20211028T183000
DTSTAMP:20260421T145150
CREATED:20210921T204037Z
LAST-MODIFIED:20210921T204721Z
UID:2028-1635440400-1635445800@bfytc.org
SUMMARY:Rehearsal
DESCRIPTION:
URL:https://bfytc.org/event/rehearsal-40/
LOCATION:Laurel Ledge Elementary School\, 30 Highland Avenue\, Beacon Falls\, CT\, 06403\, United States
CATEGORIES:Rehearsals
ORGANIZER;CN="Beacon Falls Youth Theater":MAILTO:contact@bfytc.org
END:VEVENT
BEGIN:VEVENT
DTSTART;TZID=America/New_York:20211026T170000
DTEND;TZID=America/New_York:20211026T183000
DTSTAMP:20260421T145150
CREATED:20210921T203602Z
LAST-MODIFIED:20210921T204837Z
UID:2026-1635267600-1635273000@bfytc.org
SUMMARY:Rehearsal
DESCRIPTION:
URL:https://bfytc.org/event/rehearsal-39/
LOCATION:Laurel Ledge Elementary School\, 30 Highland Avenue\, Beacon Falls\, CT\, 06403\, United States
CATEGORIES:Rehearsals
ORGANIZER;CN="Beacon Falls Youth Theater":MAILTO:contact@bfytc.org
END:VEVENT
BEGIN:VEVENT
DTSTART;TZID=America/New_York:20200224T150000
DTEND;TZID=America/New_York:20200224T170000
DTSTAMP:20260421T145150
CREATED:20200124T161852Z
LAST-MODIFIED:20200205T221324Z
UID:1924-1582556400-1582563600@bfytc.org
SUMMARY:Winter/Spring Session Start
DESCRIPTION:Rehearsals for the Winter/Spring session begin!
URL:https://bfytc.org/event/winter-spring-session-start/
LOCATION:Laurel Ledge Elementary School\, 30 Highland Avenue\, Beacon Falls\, CT\, 06403\, United States
CATEGORIES:Rehearsals
ORGANIZER;CN="Beacon Falls Youth Theater":MAILTO:contact@bfytc.org
END:VEVENT
BEGIN:VEVENT
DTSTART;TZID=America/New_York:20191230T153000
DTEND;TZID=America/New_York:20191230T170000
DTSTAMP:20260421T145150
CREATED:20191103T002341Z
LAST-MODIFIED:20191103T002341Z
UID:1829-1577719800-1577725200@bfytc.org
SUMMARY:No Rehearsal
DESCRIPTION:No rehearsal due to the holiday break
URL:https://bfytc.org/event/no-rehearsal-11/
LOCATION:Laurel Ledge Elementary School\, 30 Highland Avenue\, Beacon Falls\, CT\, 06403\, United States
CATEGORIES:Rehearsals
ORGANIZER;CN="Beacon Falls Youth Theater":MAILTO:contact@bfytc.org
END:VEVENT
BEGIN:VEVENT
DTSTART;TZID=America/New_York:20191227T153000
DTEND;TZID=America/New_York:20191227T170000
DTSTAMP:20260421T145150
CREATED:20191103T002238Z
LAST-MODIFIED:20191103T002238Z
UID:1827-1577460600-1577466000@bfytc.org
SUMMARY:No Rehearsal
DESCRIPTION:No rehearsal due to the holiday break
URL:https://bfytc.org/event/no-rehearsal-10/
LOCATION:Laurel Ledge Elementary School\, 30 Highland Avenue\, Beacon Falls\, CT\, 06403\, United States
CATEGORIES:Rehearsals
ORGANIZER;CN="Beacon Falls Youth Theater":MAILTO:contact@bfytc.org
END:VEVENT
BEGIN:VEVENT
DTSTART;TZID=America/New_York:20191225T153000
DTEND;TZID=America/New_York:20191225T170000
DTSTAMP:20260421T145150
CREATED:20191103T002118Z
LAST-MODIFIED:20191103T002118Z
UID:1825-1577287800-1577293200@bfytc.org
SUMMARY:No Rehearsal
DESCRIPTION:No rehearsal due to the holiday break
URL:https://bfytc.org/event/no-rehearsal-9/
LOCATION:Laurel Ledge Elementary School\, 30 Highland Avenue\, Beacon Falls\, CT\, 06403\, United States
CATEGORIES:Rehearsals
ORGANIZER;CN="Beacon Falls Youth Theater":MAILTO:contact@bfytc.org
END:VEVENT
BEGIN:VEVENT
DTSTART;TZID=America/New_York:20191223T153000
DTEND;TZID=America/New_York:20191223T170000
DTSTAMP:20260421T145150
CREATED:20191103T001752Z
LAST-MODIFIED:20191103T001752Z
UID:1823-1577115000-1577120400@bfytc.org
SUMMARY:No Rehearsal
DESCRIPTION:No rehearsal due to the holiday break
URL:https://bfytc.org/event/no-rehearsal-8/
LOCATION:Laurel Ledge Elementary School\, 30 Highland Avenue\, Beacon Falls\, CT\, 06403\, United States
CATEGORIES:Rehearsals
ORGANIZER;CN="Beacon Falls Youth Theater":MAILTO:contact@bfytc.org
END:VEVENT
BEGIN:VEVENT
DTSTART;TZID=America/New_York:20191220T153000
DTEND;TZID=America/New_York:20191220T170000
DTSTAMP:20260421T145150
CREATED:20191103T001457Z
LAST-MODIFIED:20191103T001457Z
UID:1821-1576855800-1576861200@bfytc.org
SUMMARY:Rehearsal
DESCRIPTION:
URL:https://bfytc.org/event/rehearsal-38/
LOCATION:Laurel Ledge Elementary School\, 30 Highland Avenue\, Beacon Falls\, CT\, 06403\, United States
CATEGORIES:Rehearsals
ORGANIZER;CN="Beacon Falls Youth Theater":MAILTO:contact@bfytc.org
END:VEVENT
BEGIN:VEVENT
DTSTART;TZID=America/New_York:20191218T153000
DTEND;TZID=America/New_York:20191218T170000
DTSTAMP:20260421T145150
CREATED:20191103T000814Z
LAST-MODIFIED:20191103T000814Z
UID:1819-1576683000-1576688400@bfytc.org
SUMMARY:Rehearsal
DESCRIPTION:
URL:https://bfytc.org/event/rehearsal-37/
LOCATION:Laurel Ledge Elementary School\, 30 Highland Avenue\, Beacon Falls\, CT\, 06403\, United States
CATEGORIES:Rehearsals
ORGANIZER;CN="Beacon Falls Youth Theater":MAILTO:contact@bfytc.org
END:VEVENT
BEGIN:VEVENT
DTSTART;TZID=America/New_York:20191216T153000
DTEND;TZID=America/New_York:20191216T170000
DTSTAMP:20260421T145150
CREATED:20191103T000032Z
LAST-MODIFIED:20191103T000032Z
UID:1817-1576510200-1576515600@bfytc.org
SUMMARY:Rehearsal
DESCRIPTION:
URL:https://bfytc.org/event/rehearsal-36/
LOCATION:Laurel Ledge Elementary School\, 30 Highland Avenue\, Beacon Falls\, CT\, 06403\, United States
CATEGORIES:Rehearsals
ORGANIZER;CN="Beacon Falls Youth Theater":MAILTO:contact@bfytc.org
END:VEVENT
BEGIN:VEVENT
DTSTART;TZID=America/New_York:20191213T153000
DTEND;TZID=America/New_York:20191213T170000
DTSTAMP:20260421T145150
CREATED:20191102T235705Z
LAST-MODIFIED:20191102T235705Z
UID:1815-1576251000-1576256400@bfytc.org
SUMMARY:Rehearsal
DESCRIPTION:
URL:https://bfytc.org/event/rehearsal-35/
LOCATION:Laurel Ledge Elementary School\, 30 Highland Avenue\, Beacon Falls\, CT\, 06403\, United States
CATEGORIES:Rehearsals
ORGANIZER;CN="Beacon Falls Youth Theater":MAILTO:contact@bfytc.org
END:VEVENT
BEGIN:VEVENT
DTSTART;TZID=America/New_York:20191211T153000
DTEND;TZID=America/New_York:20191211T170000
DTSTAMP:20260421T145150
CREATED:20191102T235546Z
LAST-MODIFIED:20191102T235546Z
UID:1813-1576078200-1576083600@bfytc.org
SUMMARY:Rehearsal
DESCRIPTION:
URL:https://bfytc.org/event/rehearsal-34/
LOCATION:Laurel Ledge Elementary School\, 30 Highland Avenue\, Beacon Falls\, CT\, 06403\, United States
CATEGORIES:Rehearsals
ORGANIZER;CN="Beacon Falls Youth Theater":MAILTO:contact@bfytc.org
END:VEVENT
BEGIN:VEVENT
DTSTART;TZID=America/New_York:20191209T153000
DTEND;TZID=America/New_York:20191209T170000
DTSTAMP:20260421T145150
CREATED:20191102T234711Z
LAST-MODIFIED:20191102T234711Z
UID:1811-1575905400-1575910800@bfytc.org
SUMMARY:Rehearsal
DESCRIPTION:
URL:https://bfytc.org/event/rehearsal-33/
LOCATION:Laurel Ledge Elementary School\, 30 Highland Avenue\, Beacon Falls\, CT\, 06403\, United States
CATEGORIES:Rehearsals
ORGANIZER;CN="Beacon Falls Youth Theater":MAILTO:contact@bfytc.org
END:VEVENT
BEGIN:VEVENT
DTSTART;TZID=America/New_York:20191206T153000
DTEND;TZID=America/New_York:20191206T170000
DTSTAMP:20260421T145150
CREATED:20191102T234306Z
LAST-MODIFIED:20191102T234306Z
UID:1809-1575646200-1575651600@bfytc.org
SUMMARY:Rehearsal
DESCRIPTION:
URL:https://bfytc.org/event/rehearsal-32/
LOCATION:Laurel Ledge Elementary School\, 30 Highland Avenue\, Beacon Falls\, CT\, 06403\, United States
CATEGORIES:Rehearsals
ORGANIZER;CN="Beacon Falls Youth Theater":MAILTO:contact@bfytc.org
END:VEVENT
BEGIN:VEVENT
DTSTART;TZID=America/New_York:20191204T153000
DTEND;TZID=America/New_York:20191204T170000
DTSTAMP:20260421T145150
CREATED:20191102T233804Z
LAST-MODIFIED:20191102T233804Z
UID:1807-1575473400-1575478800@bfytc.org
SUMMARY:No Rehearsal
DESCRIPTION:No rehearsal due to a single-session day
URL:https://bfytc.org/event/no-rehearsal-7/
LOCATION:Laurel Ledge Elementary School\, 30 Highland Avenue\, Beacon Falls\, CT\, 06403\, United States
CATEGORIES:Rehearsals
ORGANIZER;CN="Beacon Falls Youth Theater":MAILTO:contact@bfytc.org
END:VEVENT
BEGIN:VEVENT
DTSTART;TZID=America/New_York:20191202T153000
DTEND;TZID=America/New_York:20191202T170000
DTSTAMP:20260421T145150
CREATED:20191102T233532Z
LAST-MODIFIED:20191102T233532Z
UID:1805-1575300600-1575306000@bfytc.org
SUMMARY:Rehearsal
DESCRIPTION:
URL:https://bfytc.org/event/rehearsal-31/
LOCATION:Laurel Ledge Elementary School\, 30 Highland Avenue\, Beacon Falls\, CT\, 06403\, United States
CATEGORIES:Rehearsals
ORGANIZER;CN="Beacon Falls Youth Theater":MAILTO:contact@bfytc.org
END:VEVENT
BEGIN:VEVENT
DTSTART;TZID=America/New_York:20191129T153000
DTEND;TZID=America/New_York:20191129T170000
DTSTAMP:20260421T145150
CREATED:20191016T001754Z
LAST-MODIFIED:20191016T001754Z
UID:1797-1575041400-1575046800@bfytc.org
SUMMARY:No Rehearsal
DESCRIPTION:No rehearsal due to a non-school day
URL:https://bfytc.org/event/no-rehearsal-6/
LOCATION:Laurel Ledge Elementary School\, 30 Highland Avenue\, Beacon Falls\, CT\, 06403\, United States
CATEGORIES:Rehearsals
ORGANIZER;CN="Beacon Falls Youth Theater":MAILTO:contact@bfytc.org
END:VEVENT
BEGIN:VEVENT
DTSTART;TZID=America/New_York:20191127T153000
DTEND;TZID=America/New_York:20191127T170000
DTSTAMP:20260421T145150
CREATED:20191016T001625Z
LAST-MODIFIED:20191016T001625Z
UID:1795-1574868600-1574874000@bfytc.org
SUMMARY:No Rehearsal
DESCRIPTION:No rehearsal due to a single session school day
URL:https://bfytc.org/event/no-rehearsal-5/
LOCATION:Laurel Ledge Elementary School\, 30 Highland Avenue\, Beacon Falls\, CT\, 06403\, United States
CATEGORIES:Rehearsals
ORGANIZER;CN="Beacon Falls Youth Theater":MAILTO:contact@bfytc.org
END:VEVENT
BEGIN:VEVENT
DTSTART;TZID=America/New_York:20191125T153000
DTEND;TZID=America/New_York:20191125T170000
DTSTAMP:20260421T145150
CREATED:20191016T001434Z
LAST-MODIFIED:20191016T001434Z
UID:1793-1574695800-1574701200@bfytc.org
SUMMARY:Rehearsal
DESCRIPTION:
URL:https://bfytc.org/event/rehearsal-30/
LOCATION:Laurel Ledge Elementary School\, 30 Highland Avenue\, Beacon Falls\, CT\, 06403\, United States
CATEGORIES:Rehearsals
ORGANIZER;CN="Beacon Falls Youth Theater":MAILTO:contact@bfytc.org
END:VEVENT
BEGIN:VEVENT
DTSTART;TZID=America/New_York:20191122T153000
DTEND;TZID=America/New_York:20191122T170000
DTSTAMP:20260421T145150
CREATED:20191016T001258Z
LAST-MODIFIED:20191017T034128Z
UID:1791-1574436600-1574442000@bfytc.org
SUMMARY:Rehearsal
DESCRIPTION:
URL:https://bfytc.org/event/rehearsal-29/
LOCATION:Laurel Ledge Elementary School\, 30 Highland Avenue\, Beacon Falls\, CT\, 06403\, United States
CATEGORIES:Rehearsals
ORGANIZER;CN="Beacon Falls Youth Theater":MAILTO:contact@bfytc.org
END:VEVENT
BEGIN:VEVENT
DTSTART;TZID=America/New_York:20191120T153000
DTEND;TZID=America/New_York:20191120T170000
DTSTAMP:20260421T145150
CREATED:20191016T000953Z
LAST-MODIFIED:20191016T000953Z
UID:1789-1574263800-1574269200@bfytc.org
SUMMARY:Rehearsal
DESCRIPTION:
URL:https://bfytc.org/event/rehearsal-28/
LOCATION:Laurel Ledge Elementary School\, 30 Highland Avenue\, Beacon Falls\, CT\, 06403\, United States
CATEGORIES:Rehearsals
ORGANIZER;CN="Beacon Falls Youth Theater":MAILTO:contact@bfytc.org
END:VEVENT
BEGIN:VEVENT
DTSTART;TZID=America/New_York:20191118T153000
DTEND;TZID=America/New_York:20191118T170000
DTSTAMP:20260421T145150
CREATED:20191016T000524Z
LAST-MODIFIED:20191016T000524Z
UID:1786-1574091000-1574096400@bfytc.org
SUMMARY:Rehearsal
DESCRIPTION:
URL:https://bfytc.org/event/rehearsal-27/
LOCATION:Laurel Ledge Elementary School\, 30 Highland Avenue\, Beacon Falls\, CT\, 06403\, United States
CATEGORIES:Rehearsals
ORGANIZER;CN="Beacon Falls Youth Theater":MAILTO:contact@bfytc.org
END:VEVENT
BEGIN:VEVENT
DTSTART;TZID=America/New_York:20191115T153000
DTEND;TZID=America/New_York:20191115T170000
DTSTAMP:20260421T145150
CREATED:20191016T000153Z
LAST-MODIFIED:20191016T000153Z
UID:1784-1573831800-1573837200@bfytc.org
SUMMARY:Rehearsal
DESCRIPTION:
URL:https://bfytc.org/event/rehearsal-26/
LOCATION:Laurel Ledge Elementary School\, 30 Highland Avenue\, Beacon Falls\, CT\, 06403\, United States
CATEGORIES:Rehearsals
ORGANIZER;CN="Beacon Falls Youth Theater":MAILTO:contact@bfytc.org
END:VEVENT
BEGIN:VEVENT
DTSTART;TZID=America/New_York:20191113T153000
DTEND;TZID=America/New_York:20191113T170000
DTSTAMP:20260421T145150
CREATED:20191015T235212Z
LAST-MODIFIED:20191015T235212Z
UID:1782-1573659000-1573664400@bfytc.org
SUMMARY:Rehearsal
DESCRIPTION:
URL:https://bfytc.org/event/rehearsal-25/
LOCATION:Laurel Ledge Elementary School\, 30 Highland Avenue\, Beacon Falls\, CT\, 06403\, United States
CATEGORIES:Rehearsals
ORGANIZER;CN="Beacon Falls Youth Theater":MAILTO:contact@bfytc.org
END:VEVENT
BEGIN:VEVENT
DTSTART;TZID=America/New_York:20191111T153000
DTEND;TZID=America/New_York:20191111T170000
DTSTAMP:20260421T145150
CREATED:20191015T235043Z
LAST-MODIFIED:20191016T001845Z
UID:1780-1573486200-1573491600@bfytc.org
SUMMARY:No Rehearsal
DESCRIPTION:No rehearsal due to a non-school day
URL:https://bfytc.org/event/no-rehearsal-4/
LOCATION:Laurel Ledge Elementary School\, 30 Highland Avenue\, Beacon Falls\, CT\, 06403\, United States
CATEGORIES:Rehearsals
ORGANIZER;CN="Beacon Falls Youth Theater":MAILTO:contact@bfytc.org
END:VEVENT
END:VCALENDAR