BEGIN:VCALENDAR
VERSION:2.0
PRODID:-//Beacon Falls Youth Theater Company - ECPv6.15.20//NONSGML v1.0//EN
CALSCALE:GREGORIAN
METHOD:PUBLISH
X-WR-CALNAME:Beacon Falls Youth Theater Company
X-ORIGINAL-URL:https://bfytc.org
X-WR-CALDESC:Events for Beacon Falls Youth Theater Company
REFRESH-INTERVAL;VALUE=DURATION:PT1H
X-Robots-Tag:noindex
X-PUBLISHED-TTL:PT1H
BEGIN:VTIMEZONE
TZID:America/New_York
BEGIN:DAYLIGHT
TZOFFSETFROM:-0500
TZOFFSETTO:-0400
TZNAME:EDT
DTSTART:20200308T070000
END:DAYLIGHT
BEGIN:STANDARD
TZOFFSETFROM:-0400
TZOFFSETTO:-0500
TZNAME:EST
DTSTART:20201101T060000
END:STANDARD
BEGIN:DAYLIGHT
TZOFFSETFROM:-0500
TZOFFSETTO:-0400
TZNAME:EDT
DTSTART:20210314T070000
END:DAYLIGHT
BEGIN:STANDARD
TZOFFSETFROM:-0400
TZOFFSETTO:-0500
TZNAME:EST
DTSTART:20211107T060000
END:STANDARD
BEGIN:DAYLIGHT
TZOFFSETFROM:-0500
TZOFFSETTO:-0400
TZNAME:EDT
DTSTART:20220313T070000
END:DAYLIGHT
BEGIN:STANDARD
TZOFFSETFROM:-0400
TZOFFSETTO:-0500
TZNAME:EST
DTSTART:20221106T060000
END:STANDARD
BEGIN:DAYLIGHT
TZOFFSETFROM:-0500
TZOFFSETTO:-0400
TZNAME:EDT
DTSTART:20230312T070000
END:DAYLIGHT
BEGIN:STANDARD
TZOFFSETFROM:-0400
TZOFFSETTO:-0500
TZNAME:EST
DTSTART:20231105T060000
END:STANDARD
END:VTIMEZONE
BEGIN:VEVENT
DTSTART;TZID=America/New_York:20221122T080000
DTEND;TZID=America/New_York:20221122T170000
DTSTAMP:20260421T100811
CREATED:20220927T013808Z
LAST-MODIFIED:20220927T013808Z
UID:3528-1669104000-1669136400@bfytc.org
SUMMARY:Rehearsal
DESCRIPTION:
URL:https://bfytc.org/event/rehearsal-66/
LOCATION:Laurel Ledge Elementary School\, 30 Highland Avenue\, Beacon Falls\, CT\, 06403\, United States
CATEGORIES:Rehearsals
ORGANIZER;CN="Beacon Falls Youth Theater":MAILTO:contact@bfytc.org
END:VEVENT
BEGIN:VEVENT
DTSTART;TZID=America/New_York:20221117T170000
DTEND;TZID=America/New_York:20221117T183000
DTSTAMP:20260421T100811
CREATED:20220927T013646Z
LAST-MODIFIED:20220927T013646Z
UID:3526-1668704400-1668709800@bfytc.org
SUMMARY:Rehearsal
DESCRIPTION:
URL:https://bfytc.org/event/rehearsal-65/
LOCATION:Laurel Ledge Elementary School\, 30 Highland Avenue\, Beacon Falls\, CT\, 06403\, United States
CATEGORIES:Rehearsals
ORGANIZER;CN="Beacon Falls Youth Theater":MAILTO:contact@bfytc.org
END:VEVENT
BEGIN:VEVENT
DTSTART;TZID=America/New_York:20221115T080000
DTEND;TZID=America/New_York:20221115T170000
DTSTAMP:20260421T100811
CREATED:20220927T013535Z
LAST-MODIFIED:20220927T013535Z
UID:3524-1668499200-1668531600@bfytc.org
SUMMARY:Rehearsal
DESCRIPTION:
URL:https://bfytc.org/event/rehearsal-64/
LOCATION:Laurel Ledge Elementary School\, 30 Highland Avenue\, Beacon Falls\, CT\, 06403\, United States
CATEGORIES:Rehearsals
ORGANIZER;CN="Beacon Falls Youth Theater":MAILTO:contact@bfytc.org
END:VEVENT
BEGIN:VEVENT
DTSTART;TZID=America/New_York:20221110T170000
DTEND;TZID=America/New_York:20221110T183000
DTSTAMP:20260421T100811
CREATED:20220927T013417Z
LAST-MODIFIED:20220927T013417Z
UID:3522-1668099600-1668105000@bfytc.org
SUMMARY:Rehearsal
DESCRIPTION:
URL:https://bfytc.org/event/rehearsal-63/
LOCATION:Laurel Ledge Elementary School\, 30 Highland Avenue\, Beacon Falls\, CT\, 06403\, United States
CATEGORIES:Rehearsals
ORGANIZER;CN="Beacon Falls Youth Theater":MAILTO:contact@bfytc.org
END:VEVENT
BEGIN:VEVENT
DTSTART;VALUE=DATE:20221108
DTEND;VALUE=DATE:20221109
DTSTAMP:20260421T100811
CREATED:20220927T013228Z
LAST-MODIFIED:20220927T013228Z
UID:3520-1667865600-1667951999@bfytc.org
SUMMARY:No Rehearsal
DESCRIPTION:
URL:https://bfytc.org/event/no-rehearsal-20/
LOCATION:CT
CATEGORIES:Rehearsals
ORGANIZER;CN="Beacon Falls Youth Theater":MAILTO:contact@bfytc.org
END:VEVENT
BEGIN:VEVENT
DTSTART;TZID=America/New_York:20221103T170000
DTEND;TZID=America/New_York:20221103T183000
DTSTAMP:20260421T100811
CREATED:20220927T013102Z
LAST-MODIFIED:20220927T013102Z
UID:3518-1667494800-1667500200@bfytc.org
SUMMARY:Rehearsal
DESCRIPTION:
URL:https://bfytc.org/event/rehearsal-62/
LOCATION:Laurel Ledge Elementary School\, 30 Highland Avenue\, Beacon Falls\, CT\, 06403\, United States
CATEGORIES:Rehearsals
ORGANIZER;CN="Beacon Falls Youth Theater":MAILTO:contact@bfytc.org
END:VEVENT
BEGIN:VEVENT
DTSTART;TZID=America/New_York:20221101T170000
DTEND;TZID=America/New_York:20221101T183000
DTSTAMP:20260421T100811
CREATED:20220927T012952Z
LAST-MODIFIED:20220927T012952Z
UID:3516-1667322000-1667327400@bfytc.org
SUMMARY:Rehearsal
DESCRIPTION:
URL:https://bfytc.org/event/rehearsal-61/
LOCATION:Laurel Ledge Elementary School\, 30 Highland Avenue\, Beacon Falls\, CT\, 06403\, United States
CATEGORIES:Rehearsals
ORGANIZER;CN="Beacon Falls Youth Theater":MAILTO:contact@bfytc.org
END:VEVENT
BEGIN:VEVENT
DTSTART;TZID=America/New_York:20221027T170000
DTEND;TZID=America/New_York:20221027T183000
DTSTAMP:20260421T100811
CREATED:20220927T012826Z
LAST-MODIFIED:20220927T012826Z
UID:3514-1666890000-1666895400@bfytc.org
SUMMARY:Rehearsal
DESCRIPTION:
URL:https://bfytc.org/event/rehearsal-60/
LOCATION:Laurel Ledge Elementary School\, 30 Highland Avenue\, Beacon Falls\, CT\, 06403\, United States
CATEGORIES:Rehearsals
ORGANIZER;CN="Beacon Falls Youth Theater":MAILTO:contact@bfytc.org
END:VEVENT
BEGIN:VEVENT
DTSTART;TZID=America/New_York:20221025T170000
DTEND;TZID=America/New_York:20221025T183000
DTSTAMP:20260421T100811
CREATED:20220927T012700Z
LAST-MODIFIED:20220927T012700Z
UID:3512-1666717200-1666722600@bfytc.org
SUMMARY:Rehearsal
DESCRIPTION:
URL:https://bfytc.org/event/rehearsal-59/
LOCATION:Laurel Ledge Elementary School\, 30 Highland Avenue\, Beacon Falls\, CT\, 06403\, United States
CATEGORIES:Rehearsals
ORGANIZER;CN="Beacon Falls Youth Theater":MAILTO:contact@bfytc.org
END:VEVENT
BEGIN:VEVENT
DTSTART;VALUE=DATE:20221020
DTEND;VALUE=DATE:20221021
DTSTAMP:20260421T100811
CREATED:20220927T012505Z
LAST-MODIFIED:20220927T012505Z
UID:3510-1666224000-1666310399@bfytc.org
SUMMARY:No Rehearsal
DESCRIPTION:
URL:https://bfytc.org/event/no-rehearsal-19/
LOCATION:CT
CATEGORIES:Rehearsals
ORGANIZER;CN="Beacon Falls Youth Theater":MAILTO:contact@bfytc.org
END:VEVENT
BEGIN:VEVENT
DTSTART;VALUE=DATE:20221018
DTEND;VALUE=DATE:20221019
DTSTAMP:20260421T100811
CREATED:20220927T005707Z
LAST-MODIFIED:20220927T005707Z
UID:3507-1666051200-1666137599@bfytc.org
SUMMARY:No Rehearsal
DESCRIPTION:
URL:https://bfytc.org/event/no-rehearsal-18/
LOCATION:CT
CATEGORIES:Rehearsals
ORGANIZER;CN="Beacon Falls Youth Theater":MAILTO:contact@bfytc.org
END:VEVENT
BEGIN:VEVENT
DTSTART;TZID=America/New_York:20221013T170000
DTEND;TZID=America/New_York:20221013T183000
DTSTAMP:20260421T100811
CREATED:20220927T005508Z
LAST-MODIFIED:20220927T005508Z
UID:3505-1665680400-1665685800@bfytc.org
SUMMARY:Rehearsal
DESCRIPTION:
URL:https://bfytc.org/event/rehearsal-58/
LOCATION:Laurel Ledge Elementary School\, 30 Highland Avenue\, Beacon Falls\, CT\, 06403\, United States
CATEGORIES:Rehearsals
ORGANIZER;CN="Beacon Falls Youth Theater":MAILTO:contact@bfytc.org
END:VEVENT
BEGIN:VEVENT
DTSTART;TZID=America/New_York:20221011T170000
DTEND;TZID=America/New_York:20221011T183000
DTSTAMP:20260421T100811
CREATED:20220927T005055Z
LAST-MODIFIED:20220927T005055Z
UID:3503-1665507600-1665513000@bfytc.org
SUMMARY:Rehearsal
DESCRIPTION:
URL:https://bfytc.org/event/rehearsal-57/
LOCATION:Laurel Ledge Elementary School\, 30 Highland Avenue\, Beacon Falls\, CT\, 06403\, United States
CATEGORIES:Rehearsals
ORGANIZER;CN="Beacon Falls Youth Theater":MAILTO:contact@bfytc.org
END:VEVENT
BEGIN:VEVENT
DTSTART;VALUE=DATE:20220414
DTEND;VALUE=DATE:20220415
DTSTAMP:20260421T100811
CREATED:20220404T010850Z
LAST-MODIFIED:20220404T010850Z
UID:2099-1649894400-1649980799@bfytc.org
SUMMARY:No Rehearsal
DESCRIPTION:
URL:https://bfytc.org/event/no-rehearsal-17/
LOCATION:CT
CATEGORIES:Rehearsals
ORGANIZER;CN="Beacon Falls Youth Theater":MAILTO:contact@bfytc.org
END:VEVENT
BEGIN:VEVENT
DTSTART;VALUE=DATE:20220412
DTEND;VALUE=DATE:20220413
DTSTAMP:20260421T100811
CREATED:20220404T010533Z
LAST-MODIFIED:20220404T010533Z
UID:2097-1649721600-1649807999@bfytc.org
SUMMARY:No Rehearsal
DESCRIPTION:
URL:https://bfytc.org/event/no-rehearsal-16/
LOCATION:CT
CATEGORIES:Rehearsals
ORGANIZER;CN="Beacon Falls Youth Theater":MAILTO:contact@bfytc.org
END:VEVENT
BEGIN:VEVENT
DTSTART;TZID=America/New_York:20220407T170000
DTEND;TZID=America/New_York:20220407T183000
DTSTAMP:20260421T100811
CREATED:20220404T010308Z
LAST-MODIFIED:20220404T010308Z
UID:2095-1649350800-1649356200@bfytc.org
SUMMARY:Rehearsal
DESCRIPTION:
URL:https://bfytc.org/event/rehearsal-56/
LOCATION:Laurel Ledge Elementary School\, 30 Highland Avenue\, Beacon Falls\, CT\, 06403\, United States
CATEGORIES:Rehearsals
ORGANIZER;CN="Beacon Falls Youth Theater":MAILTO:contact@bfytc.org
END:VEVENT
BEGIN:VEVENT
DTSTART;TZID=America/New_York:20220405T170000
DTEND;TZID=America/New_York:20220405T183000
DTSTAMP:20260421T100811
CREATED:20220404T005925Z
LAST-MODIFIED:20220404T005925Z
UID:2093-1649178000-1649183400@bfytc.org
SUMMARY:Rehearsal
DESCRIPTION:
URL:https://bfytc.org/event/rehearsal-55/
LOCATION:Laurel Ledge Elementary School\, 30 Highland Avenue\, Beacon Falls\, CT\, 06403\, United States
CATEGORIES:Rehearsals
ORGANIZER;CN="Beacon Falls Youth Theater":MAILTO:contact@bfytc.org
END:VEVENT
BEGIN:VEVENT
DTSTART;TZID=America/New_York:20211230T170000
DTEND;TZID=America/New_York:20211230T183000
DTSTAMP:20260421T100811
CREATED:20211111T164728Z
LAST-MODIFIED:20211111T164728Z
UID:2083-1640883600-1640889000@bfytc.org
SUMMARY:Rehearsal
DESCRIPTION:
URL:https://bfytc.org/event/rehearsal-54/
LOCATION:Laurel Ledge Elementary School\, 30 Highland Avenue\, Beacon Falls\, CT\, 06403\, United States
CATEGORIES:Rehearsals
ORGANIZER;CN="Beacon Falls Youth Theater":MAILTO:contact@bfytc.org
END:VEVENT
BEGIN:VEVENT
DTSTART;VALUE=DATE:20211228
DTEND;VALUE=DATE:20211229
DTSTAMP:20260421T100811
CREATED:20211111T164622Z
LAST-MODIFIED:20211111T164622Z
UID:2081-1640649600-1640735999@bfytc.org
SUMMARY:No Rehearsal
DESCRIPTION:
URL:https://bfytc.org/event/no-rehearsal-15/
LOCATION:CT
CATEGORIES:Rehearsals
ORGANIZER;CN="Beacon Falls Youth Theater":MAILTO:contact@bfytc.org
END:VEVENT
BEGIN:VEVENT
DTSTART;TZID=America/New_York:20211223T170000
DTEND;TZID=America/New_York:20211223T183000
DTSTAMP:20260421T100811
CREATED:20211111T164519Z
LAST-MODIFIED:20211111T164519Z
UID:2079-1640278800-1640284200@bfytc.org
SUMMARY:Rehearsal
DESCRIPTION:
URL:https://bfytc.org/event/rehearsal-53/
LOCATION:Laurel Ledge Elementary School\, 30 Highland Avenue\, Beacon Falls\, CT\, 06403\, United States
CATEGORIES:Rehearsals
ORGANIZER;CN="Beacon Falls Youth Theater":MAILTO:contact@bfytc.org
END:VEVENT
BEGIN:VEVENT
DTSTART;TZID=America/New_York:20211221T170000
DTEND;TZID=America/New_York:20211221T183000
DTSTAMP:20260421T100811
CREATED:20211111T164417Z
LAST-MODIFIED:20211111T164417Z
UID:2077-1640106000-1640111400@bfytc.org
SUMMARY:Rehearsal
DESCRIPTION:
URL:https://bfytc.org/event/rehearsal-52/
LOCATION:Laurel Ledge Elementary School\, 30 Highland Avenue\, Beacon Falls\, CT\, 06403\, United States
CATEGORIES:Rehearsals
ORGANIZER;CN="Beacon Falls Youth Theater":MAILTO:contact@bfytc.org
END:VEVENT
BEGIN:VEVENT
DTSTART;TZID=America/New_York:20211216T170000
DTEND;TZID=America/New_York:20211216T183000
DTSTAMP:20260421T100811
CREATED:20211111T164303Z
LAST-MODIFIED:20211111T164303Z
UID:2075-1639674000-1639679400@bfytc.org
SUMMARY:Rehearsal
DESCRIPTION:
URL:https://bfytc.org/event/rehearsal-51/
LOCATION:Laurel Ledge Elementary School\, 30 Highland Avenue\, Beacon Falls\, CT\, 06403\, United States
CATEGORIES:Rehearsals
ORGANIZER;CN="Beacon Falls Youth Theater":MAILTO:contact@bfytc.org
END:VEVENT
BEGIN:VEVENT
DTSTART;TZID=America/New_York:20211214T170000
DTEND;TZID=America/New_York:20211214T183000
DTSTAMP:20260421T100811
CREATED:20211111T164156Z
LAST-MODIFIED:20211111T164156Z
UID:2073-1639501200-1639506600@bfytc.org
SUMMARY:Rehearsal
DESCRIPTION:
URL:https://bfytc.org/event/rehearsal-50/
LOCATION:Laurel Ledge Elementary School\, 30 Highland Avenue\, Beacon Falls\, CT\, 06403\, United States
CATEGORIES:Rehearsals
ORGANIZER;CN="Beacon Falls Youth Theater":MAILTO:contact@bfytc.org
END:VEVENT
BEGIN:VEVENT
DTSTART;TZID=America/New_York:20211209T170000
DTEND;TZID=America/New_York:20211209T183000
DTSTAMP:20260421T100811
CREATED:20211111T162646Z
LAST-MODIFIED:20211111T162646Z
UID:2071-1639069200-1639074600@bfytc.org
SUMMARY:Rehearsal
DESCRIPTION:
URL:https://bfytc.org/event/rehearsal-49/
LOCATION:Laurel Ledge Elementary School\, 30 Highland Avenue\, Beacon Falls\, CT\, 06403\, United States
CATEGORIES:Rehearsals
ORGANIZER;CN="Beacon Falls Youth Theater":MAILTO:contact@bfytc.org
END:VEVENT
BEGIN:VEVENT
DTSTART;TZID=America/New_York:20211207T080000
DTEND;TZID=America/New_York:20211207T170000
DTSTAMP:20260421T100811
CREATED:20211111T162544Z
LAST-MODIFIED:20211111T162544Z
UID:2069-1638864000-1638896400@bfytc.org
SUMMARY:Rehearsal
DESCRIPTION:
URL:https://bfytc.org/event/rehearsal-48/
LOCATION:Laurel Ledge Elementary School\, 30 Highland Avenue\, Beacon Falls\, CT\, 06403\, United States
CATEGORIES:Rehearsals
ORGANIZER;CN="Beacon Falls Youth Theater":MAILTO:contact@bfytc.org
END:VEVENT
BEGIN:VEVENT
DTSTART;TZID=America/New_York:20211202T170000
DTEND;TZID=America/New_York:20211202T183000
DTSTAMP:20260421T100811
CREATED:20211111T162446Z
LAST-MODIFIED:20211111T162446Z
UID:2067-1638464400-1638469800@bfytc.org
SUMMARY:Rehearsal
DESCRIPTION:
URL:https://bfytc.org/event/rehearsal-47/
LOCATION:Laurel Ledge Elementary School\, 30 Highland Avenue\, Beacon Falls\, CT\, 06403\, United States
CATEGORIES:Rehearsals
ORGANIZER;CN="Beacon Falls Youth Theater":MAILTO:contact@bfytc.org
END:VEVENT
BEGIN:VEVENT
DTSTART;TZID=America/New_York:20211130T170000
DTEND;TZID=America/New_York:20211130T183000
DTSTAMP:20260421T100811
CREATED:20211111T162209Z
LAST-MODIFIED:20211111T162209Z
UID:2065-1638291600-1638297000@bfytc.org
SUMMARY:Rehearsal
DESCRIPTION:
URL:https://bfytc.org/event/rehearsal-46/
LOCATION:Laurel Ledge Elementary School\, 30 Highland Avenue\, Beacon Falls\, CT\, 06403\, United States
CATEGORIES:Rehearsals
ORGANIZER;CN="Beacon Falls Youth Theater":MAILTO:contact@bfytc.org
END:VEVENT
BEGIN:VEVENT
DTSTART;VALUE=DATE:20211125
DTEND;VALUE=DATE:20211126
DTSTAMP:20260421T100811
CREATED:20211111T162057Z
LAST-MODIFIED:20211111T162057Z
UID:2063-1637798400-1637884799@bfytc.org
SUMMARY:No Rehearsal
DESCRIPTION:
URL:https://bfytc.org/event/no-rehearsal-14/
LOCATION:CT
CATEGORIES:Rehearsals
ORGANIZER;CN="Beacon Falls Youth Theater":MAILTO:contact@bfytc.org
END:VEVENT
BEGIN:VEVENT
DTSTART;TZID=America/New_York:20211123T170000
DTEND;TZID=America/New_York:20211123T183000
DTSTAMP:20260421T100811
CREATED:20211111T161940Z
LAST-MODIFIED:20211111T161940Z
UID:2061-1637686800-1637692200@bfytc.org
SUMMARY:Rehearsal
DESCRIPTION:
URL:https://bfytc.org/event/rehearsal-45/
LOCATION:Laurel Ledge Elementary School\, 30 Highland Avenue\, Beacon Falls\, CT\, 06403\, United States
CATEGORIES:Rehearsals
ORGANIZER;CN="Beacon Falls Youth Theater":MAILTO:contact@bfytc.org
END:VEVENT
BEGIN:VEVENT
DTSTART;TZID=America/New_York:20211118T170000
DTEND;TZID=America/New_York:20211118T183000
DTSTAMP:20260421T100811
CREATED:20211111T161752Z
LAST-MODIFIED:20211111T161752Z
UID:2059-1637254800-1637260200@bfytc.org
SUMMARY:Rehearsal
DESCRIPTION:
URL:https://bfytc.org/event/rehearsal-44/
LOCATION:Laurel Ledge Elementary School\, 30 Highland Avenue\, Beacon Falls\, CT\, 06403\, United States
CATEGORIES:Rehearsals
ORGANIZER;CN="Beacon Falls Youth Theater":MAILTO:contact@bfytc.org
END:VEVENT
END:VCALENDAR